BEGIN:VCALENDAR
VERSION:2.0
PRODID:-//wp-events-plugin.com//7.2.2.1//EN
TZID:America/New_York
X-WR-TIMEZONE:America/New_York
BEGIN:VEVENT
UID:824@stacheftl.com
DTSTART;TZID=America/New_York:20260408T190000
DTEND;TZID=America/New_York:20260408T213000
DTSTAMP:20260401T205203Z
URL:https://stacheftl.com/shindigs/whiskey-society-freddie-johnson-from-bu
 ffalo-trace-meet-and-greet/
SUMMARY:Whiskey Society - Freddie Johnson from Buffalo Trace Meet and Greet
DESCRIPTION:Long awaited return of our Whiskey Society Meet-up at Stache.\n
 \nThis is one not to miss\, legend Freddie Johnson will be stopping by Sta
 che\, for a tasting\, meet and greet plus talk about the best bourbons in 
 the world\nF Johnson is a man who needs no introduction. He’s been a fix
 ture at the Buffalo Trace Distillery for more than two decades\, and the n
 umber of tours he’s given in that time has to be in the thousands. He’
 s the third generation of his family to work at the distillery — his gra
 ndfather worked with Colonel Blanton — and his own grandson\, Osiris\, h
 as been present at two of the last millionth barrel celebrations\, another
  long-standing family tradition. Johnson was inducted into the Whisky Maga
 zine Hall of Fame in 2024.\n\n\n
ATTACH;FMTTYPE=image/jpeg:https://stacheftl.com/wp-content/uploads/2026/04
 /04.08-FEED.png
CATEGORIES:21+,Whiskey Tasting
LOCATION:Stache Drinking Den\, 109 SW 2nd Ave\, Fort Lauderdale\, Florida\,
  33312\, United States
GEO:26.121276;-80.146078
X-APPLE-STRUCTURED-LOCATION;VALUE=URI;X-ADDRESS=109 SW 2nd Ave\, Fort Laude
 rdale\, Florida\, 33312\, United States;X-APPLE-RADIUS=100;X-TITLE=Stache 
 Drinking Den:geo:26.121276,-80.146078
END:VEVENT
BEGIN:VTIMEZONE
TZID:America/New_York
X-LIC-LOCATION:America/New_York
BEGIN:DAYLIGHT
DTSTART:20260308T030000
TZOFFSETFROM:-0500
TZOFFSETTO:-0400
TZNAME:EDT
END:DAYLIGHT
END:VTIMEZONE
END:VCALENDAR