BEGIN:VCALENDAR
VERSION:2.0
PRODID:-//wp-events-plugin.com//7.2.2.1//EN
TZID:America/New_York
X-WR-TIMEZONE:America/New_York
BEGIN:VEVENT
UID:737@stacheftl.com
DTSTART;TZID=America/New_York:20240726T210000
DTEND;TZID=America/New_York:20240727T020000
DTSTAMP:20240712T194141Z
URL:https://stacheftl.com/shindigs/the-black-market-equinox-booking-presen
 t-hot-mess-y2k/
SUMMARY:The Black Market & Equinox Booking Present HOT MESS Y2K
DESCRIPTION:The Black Market & Equinox Booking Present\n\nHOT MESS\n\nY2K\n
 \n(indiesleaze\, electronic\, pop)\n\nFrezno\n\nKurbiix\n\nRhemma\n\nHeroi
 n Chic\n\nJuly 26th\n\n9pm-2am\n\n18+\n\nStache\n\n\n
ATTACH;FMTTYPE=image/jpeg:https://stacheftl.com/wp-content/uploads/2024/07
 /Picsart_24-07-02_15-58-49-789-scaled.jpg
CATEGORIES:18+,EDM Shows
LOCATION:Stache Drinking Den\, 109 SW 2nd Ave\, Fort Lauderdale\, Florida\,
  33312\, United States
GEO:26.121276;-80.146078
X-APPLE-STRUCTURED-LOCATION;VALUE=URI;X-ADDRESS=109 SW 2nd Ave\, Fort Laude
 rdale\, Florida\, 33312\, United States;X-APPLE-RADIUS=100;X-TITLE=Stache 
 Drinking Den:geo:26.121276,-80.146078
END:VEVENT
BEGIN:VTIMEZONE
TZID:America/New_York
X-LIC-LOCATION:America/New_York
BEGIN:DAYLIGHT
DTSTART:20240310T030000
TZOFFSETFROM:-0500
TZOFFSETTO:-0400
TZNAME:EDT
END:DAYLIGHT
END:VTIMEZONE
END:VCALENDAR