BEGIN:VCALENDAR
VERSION:2.0
PRODID:-//wp-events-plugin.com//7.2.2.1//EN
TZID:America/New_York
X-WR-TIMEZONE:America/New_York
BEGIN:VEVENT
UID:681@stacheftl.com
DTSTART;TZID=America/New_York:20230217T090000
DTEND;TZID=America/New_York:20230218T020000
DTSTAMP:20230110T220458Z
URL:https://stacheftl.com/shindigs/shlump-alien-trip-tour/
SUMMARY:Shlump: Alien Trip Tour
DESCRIPTION:Shlump & BLNK CNVS Presents: Alien Trip Tour\n\n\n
ATTACH;FMTTYPE=image/jpeg:https://stacheftl.com/wp-content/uploads/2022/12
 /BC_SHLUMP__1800-x-1800.png
CATEGORIES:18+,EDM Shows
LOCATION:Stache Drinking Den\, 109 SW 2nd Ave\, Fort Lauderdale\, Florida\,
  33312\, United States
GEO:26.121276;-80.146078
X-APPLE-STRUCTURED-LOCATION;VALUE=URI;X-ADDRESS=109 SW 2nd Ave\, Fort Laude
 rdale\, Florida\, 33312\, United States;X-APPLE-RADIUS=100;X-TITLE=Stache 
 Drinking Den:geo:26.121276,-80.146078
END:VEVENT
BEGIN:VTIMEZONE
TZID:America/New_York
X-LIC-LOCATION:America/New_York
BEGIN:STANDARD
DTSTART:20221106T010000
TZOFFSETFROM:-0400
TZOFFSETTO:-0500
TZNAME:EST
END:STANDARD
END:VTIMEZONE
END:VCALENDAR