BEGIN:VCALENDAR
VERSION:2.0
PRODID:-//wp-events-plugin.com//7.2.2.1//EN
TZID:America/New_York
X-WR-TIMEZONE:America/New_York
BEGIN:VEVENT
UID:777@stacheftl.com
DTSTART;TZID=America/New_York:20250724T190000
DTEND;TZID=America/New_York:20250725T230000
DTSTAMP:20250711T042609Z
URL:https://stacheftl.com/shindigs/old-school-vinyl-2/
SUMMARY:Old School Vinyl
DESCRIPTION:Get ready for the next installment of Old School Vinyl at Stach
 e Drinking Den! DJ Fly Guy and DJ Evolver will be taking you on a musical 
 journey through the best of the '70s to the present.\nLadies enjoy free ad
 mission all night with RSVP. Gentlemen get in free with RSVP before 9 PM\,
  and just $10 after. RSVPs help us plan ahead\, but arriving early is your
  best bet to ensure entry and experience every beat from start to finish.\
 nWe can’t wait to vibe out with fellow music lovers for another unforget
 table night of classic hits and good energy.\n— The OS4L Team \n\nThis e
 vent is 21+ & a valid photo ID is required for entry.\n\n\n
ATTACH;FMTTYPE=image/jpeg:https://stacheftl.com/wp-content/uploads/2025/07
 /T.png
CATEGORIES:21+
LOCATION:Stache Drinking Den\, 109 SW 2nd Ave\, Fort Lauderdale\, Florida\,
  33312\, United States
GEO:26.121276;-80.146078
X-APPLE-STRUCTURED-LOCATION;VALUE=URI;X-ADDRESS=109 SW 2nd Ave\, Fort Laude
 rdale\, Florida\, 33312\, United States;X-APPLE-RADIUS=100;X-TITLE=Stache 
 Drinking Den:geo:26.121276,-80.146078
END:VEVENT
BEGIN:VTIMEZONE
TZID:America/New_York
X-LIC-LOCATION:America/New_York
BEGIN:DAYLIGHT
DTSTART:20250309T030000
TZOFFSETFROM:-0500
TZOFFSETTO:-0400
TZNAME:EDT
END:DAYLIGHT
END:VTIMEZONE
END:VCALENDAR